Workbook
Name gaga: 'SVERWEIS 3_Lösung'!$B$37:$B$39

Sheet Stammdaten
C4: Anrede | D4: Briefanrede
C5: Frau | D5: Sehr geehrte Frau
C6: Herr | D6: Sehr geehrter Herr
C7: Familie | D7: Liebe Familie
C8: Mme | D8: Madame

Sheet Stammdaten2
E2: Anrede | F2: Briefanrede
E3: Frau | F3: Sehr geehrte Frau
E4: Herr | F4: Sehr geehrter Herr
E5: Familie | F5: Liebe Familie
E6: Mme | F6: Madame

Sheet SVERWEIS 1_Lösung
A1: SVERWEIS | C1: SVERWEIS | G1: Hinweis:
G2: speichern Sie die Arbeitsmappe
G3: regelmässig!
A7: Aufgabe | J7: Die Idee vom SVERWEIS ist folgende, wenn wir von der Zelle D18 ausgehen:
A8: In der Spalte Briefanrede soll die korrekte Briefanrede aufgrund der Anrede in Spalte C erscheinen | J8: Nimm den Wert in Zelle C18 und suche diesen in der ersten Spalte vom Bereich G17 bis H25.
A9: Nehmen Sie die kleine Tabelle rechts im Bereich G16 bis H20 zu Hilfe. | J9: Hast du den Wert in der ersten Spalte gefunden, schreibe bitte den Wert der zweiten
J10: Spalte in die Zelle D18.
J12: Die Schreibweise sieht wie folgt aus:
G16: Anrede | H16: Briefanrede
B17: Name | C17: Anrede | D17: Briefanrede | G17: Frau | H17: Sehr geehrte Frau | J17: Das erste Argument (blau) zeigt auf die Zelle, nach welcher gesucht werden soll.
B18: Meyer Kurt | C18: Herr | D18: =VLOOKUP(C18,$G$17:$H$25,2,0) -> Sehr geehrter Herr | G18: Herr | H18: Sehr geehrter Herr | J18: Das zweite Argument (grün) gibt einfach den Bereich G17:H25 an.
B19: Kählin Monika | C19: Frau | D19: =VLOOKUP(C19,$G$17:$H$25,2,0) -> Sehr geehrte Frau | G19: Familie | H19: Liebe Familie | J19: Achten Sie darauf, dass Sie hier absolute Bezüge verwenden. Sie wollen danach ja die Formel nach
B20: Müller Peter | C20: Herr | D20: =VLOOKUP(C20,$G$17:$H$25,2,0) -> Sehr geehrter Herr | G20: Mme | H20: Madame | J20: unten ziehen. Wenn sich der grün markierte Bereich auch nach unten verschieben würde, dann
B21: Meier Karin | C21: Frau | D21: =VLOOKUP(C21,$G$17:$H$25,2,0) -> Sehr geehrte Frau | J21: würde das keinen Sinn machen. Dieser grün markierte Bereich muss fixiert werden.
B22: Coudray Françoise | C22: Mme | D22: =VLOOKUP(C22,$G$17:$H$25,2,0) -> Madame | J22: Das dritte Argument (die Zahl 2) gibt nur an, welche Spalte wir gerne haben möchten. Wir suchen ja in der
B23: Elsner Steffi & Hans | C23: Familie | D23: =VLOOKUP(C23,$G$17:$H$25,2,0) -> Liebe Familie | J23: Spalte 1 nach "Herr", und erhalten wollen wir aber den Inhalt von Spalte 2: "Sehr geehrter Herr".
J25: Hier sehen wir nochmals die Formel mit den sichtbaren Bezügen:
J44: Das letzte Argument sagt dem SVERWEIS, ob er genau oder nur ungefähr suchen gehen soll. Mit einer 0 sagen wir dem Befehl, dass er
J45: genau suchen gehen soll. Meistens benötigen wir nur diese Möglichkeit. Ungenau suchen müssen wir dann, wenn wir nach Zahlenwerten
J46: suchen wollen, die es in der Liste jedoch nicht gibt. So gibt uns der SVERWEIS den nächstgelegenen Wert zurück.
J48: Fragen Sie sich übrigens, warum ich den grünen Bereich länger gewählt habe als bis zur Zeile 20? Das liegt daran, dass ich so flexibel bin.
J49: Ändern Sie mal die Anrede ganz am Schluss, dort wo "Familie" steht, auf "Family". Dann wird in Zelle D23 eine Fehlermeldung kommen.
J50: Nun können Sie aber ganz entspannt in Zelle G21 die Liste erweitern, indem Sie dort "Family" reinschreiben. Und rechts davon wählen Sie
J51: einfach eine beliebige Briefanrede, z.B. "My dear family". Und schon sind Sie den Fehler los.
J52: Hätte ich den grün markierten Bereich im SVERWEIS nicht grösser gewählt, müsste ich bei jeder neuen Anrede die Formel anpassen. Und genau
J53: das wollen wir nicht.

Sheet SVERWEIS 2_Lösung
A1: SVERWEIS | G1: Hinweis:
G2: speichern Sie die Arbeitsmappe
G3: regelmässig!
A7: Aufgabe
A8: In der Spalte Briefanrede soll wieder die korrekte Briefanrede erscheinen.
A9: Aber diesmal nehmen Sie die Tabelle im Blatt "Stammdaten" zu Hilfe.
H10: Diese Aufgabe kann genau gleich wie die vorherige gelöst werden. Der SVERWEIS kann gleich aussehen, ausser, dass
H11: im grün markierten Bereich nun halt das andere Tabellenblatt "Stammdaten" angegeben werden muss:
H16: Das funktioniert übrigens auch mit einer fremden Datei. Diese Anrede-Tabelle muss nicht in der gleichen Datei stecken.
B17: Name | C17: Anrede | D17: Briefanrede | H17: Sie müssen einfach sicherstellen, dass die Anwenderinnen und Anwender jedoch Zugriff auf die Datei haben.
B18: Meyer Kurt | C18: Herr | D18: =VLOOKUP(C18,Stammdaten!$C$5:$D$8,2,0) -> Sehr geehrter Herr
B19: Kählin Monika | C19: Frau | D19: =VLOOKUP(C19,Stammdaten!$C$5:$D$8,2,0) -> Sehr geehrte Frau
B20: Müller Peter | C20: Herr | D20: =VLOOKUP(C20,Stammdaten!$C$5:$D$8,2,0) -> Sehr geehrter Herr
B21: Meier Karin | C21: Frau | D21: =VLOOKUP(C21,Stammdaten!$C$5:$D$8,2,0) -> Sehr geehrte Frau
B22: Coudray Françoise | C22: Mme | D22: =VLOOKUP(C22,Stammdaten!$C$5:$D$8,2,0) -> Madame
B23: Elsner Steffi & Hans | C23: Familie | D23: =VLOOKUP(C23,Stammdaten!$C$5:$D$8,2,0) -> Liebe Familie

Sheet SVERWEIS 3_Lösung
A1: SVERWEIS | G1: Hinweis:
G2: speichern Sie die Arbeitsmappe
G3: regelmässig!
A7: Aufgabe
A8: In der Spalte Briefanrede steckt bereits ein funktionierender SVERWEIS drin. | H8: Schauen Sie sich mal den SVERWEIS resp. den Bezug zur Matrix an:
A9: Finden Sie heraus, woher Excel die Daten holt, damit die korrekte Briefanrede
A10: angezeigt wird?
B17: Name | C17: Anrede | D17: Briefanrede
B18: Meyer Kurt | C18: Herr | D18: =VLOOKUP(C18,Anreden[],2,0) -> Sehr geehrter Herr
B19: Kählin Monika | C19: Frau | D19: =VLOOKUP(C19,Anreden[],2,0) -> Sehr geehrte Frau
B20: Müller Peter | C20: Herr | D20: =VLOOKUP(C20,Anreden[],2,0) -> Sehr geehrter Herr
B21: Meier Karin | C21: Frau | D21: =VLOOKUP(C21,Anreden[],2,0) -> Sehr geehrte Frau
B22: Coudray Françoise | C22: Mme | D22: =VLOOKUP(C22,Anreden[],2,0) -> Madame
B23: Elsner Steffi & Hans | C23: Familie | D23: =VLOOKUP(C23,Anreden[],2,0) -> Liebe Familie | H23: Excel greift auf einen Bereich zu, der den Namen "Anreden" hat.
H24: Nun kann es sich dabei um zwei Sachen handeln:
H25: -entweder haben wir einfach einen Namen für einen Bereich definiert
H26: -oder es handelt sich um eine sog. Excel-Tabelle
H28: Name für Bereich
H29: In Excel können Sie einem beliebigen Zellbereich einen Namen zuweisen. Dies erledigen Sie im Grundsatz so,
H30: dass Sie einen Bereich markieren:
H41: Danach klicken Sie in den Bereich oben links, links von der Bearbeitungszeile. Und da schreiben Sie einen (fast) beliebigen
H42: Namen hinein.
H43: Solche Namen können gelegentlich praktisch sein, wenn Sie Bezüge wie $C$11:$E$37 vermeiden wollen. Ein aussagekräftiger Name
H44: wie "Anreden" oder "Hersteller" sagt natürlich mehr aus. Trotzdem sind "echte" Bezüge meistens trotzdem besser, weil Sie Fehler
H45: in der Regel schneller finden.
H46: Und vor allem wissen Sie in einer fremden Arbeitsmappe nicht, welche Bereiche welche Namen haben. Eben, handelt es sich hier in
... H208: wollen oder nicht.

Sheet SVERWEIS 4_Lösung
A1: SVERWEIS | G1: Hinweis:
G2: speichern Sie die Arbeitsmappe
G3: regelmässig!
A7: Aufgabe
A8: Komplettieren Sie nochmals mittels SVERWEIS die Spalte D.
A9: Jetzt sollte Sie jedoch eine Fehlermeldung kriegen.
A10: Was könnten Sie tun, ohne den Eintrag in der Spalte C zu ändern?
J13: Dieser Fehler ist schon fast offensichtlich. In Zelle D20 nimmt der SVERWEIS den Text "Herrr" von der Zelle C20.
J14: Dieser Text wird nun in unserer Matrix rechts gesucht. Aber da ich "Herrr" falsch geschrieben habe, kann SVERWEIS
J15: diesen Text nicht finden.
B16: Originalversion | G16: Anrede | H16: Briefanrede | J16: Diesen Fehler korrigieren Sie in der Regel, indem Sie einfach den Rechtschreibefehler korrigieren.
B17: Name | C17: Anrede | D17: Briefanrede | G17: Frau | H17: Sehr geehrte Frau
B18: Meyer Kurt | C18: Herr | D18: =VLOOKUP(C18,$G$17:$H$25,2,0) -> Sehr geehrter Herr | G18: Herr | H18: Sehr geehrter Herr | J18: Anders ist es mit Fehler in der Zelle D24. Das "Mister" ist ja nicht falsch geschrieben. Aber es wir nicht in unserer
B19: Kählin Monika | C19: Frau | D19: =VLOOKUP(C19,$G$17:$H$25,2,0) -> Sehr geehrte Frau | G19: Familie | H19: Liebe Familie | J19: Matrix gefunden.
B20: Müller Peter | C20: Herrr | D20: =VLOOKUP(C20,$G$17:$H$25,2,0) -> #N/A | G20: Mme | H20: Madame | J20: Und genau hier liegt das Geheimnis im genialen SVERWEIS:
B21: Meier Karin | C21: Frau | D21: =VLOOKUP(C21,$G$17:$H$25,2,0) -> Sehr geehrte Frau | J21: hätten wir eine WENN-Funktion, müssten wir diese um ein WENN erweitern, um den "Mister" ebenfalls zu
B22: Coudray Françoise | C22: Mme | D22: =VLOOKUP(C22,$G$17:$H$25,2,0) -> Madame | J22: behandlen.
B23: Elsner Steffi & Hans | C23: Familie | D23: =VLOOKUP(C23,$G$17:$H$25,2,0) -> Liebe Familie | J23: Mit dem SVERWEIS müssen wir nur in der Matrix einen neuen Eintrag mit "Mister" erstellen:
B24: James Bond | C24: Mister | D24: =VLOOKUP(C24,$G$17:$H$25,2,0) -> #N/A
B27: Version mit WENNFEHLER, bei Fehler erscheint nichts
B28: Name | C28: Anrede | D28: Briefanrede
B29: Meyer Kurt | C29: Herr | D29: =IFERROR(VLOOKUP(C29,$G$17:$H$25,2,0),"") -> Sehr geehrter Herr
B30: Kählin Monika | C30: Frau | D30: =IFERROR(VLOOKUP(C30,$G$17:$H$25,2,0),"") -> Sehr geehrte Frau
B31: Müller Peter | C31: Herrr | D31: =IFERROR(VLOOKUP(C31,$G$17:$H$25,2,0),"")
B32: Meier Karin | C32: Frau | D32: =IFERROR(VLOOKUP(C32,$G$17:$H$25,2,0),"") -> Sehr geehrte Frau
B33: Coudray Françoise | C33: Mme | D33: =IFERROR(VLOOKUP(C33,$G$17:$H$25,2,0),"") -> Madame | J33: Und schon verschwindet die Fehlermeldung in der Zelle D24.
B34: Elsner Steffi & Hans | C34: Familie | D34: =IFERROR(VLOOKUP(C34,$G$17:$H$25,2,0),"") -> Liebe Familie
B35: James Bond | C35: Mister | D35: =IFERROR(VLOOKUP(C35,$G$17:$H$25,2,0),"") | J35: Wollen Sie hingegen diese Zeile nicht addieren, sondern den Fehler akzeptieren, dann können Sie mittels
J36: der Funktion WENNFEHLER (haben wir letztes Mal angeschaut) den Fehler quasi abfangen.
B38: Version mit WENNFEHLER, bei Fehler erscheint FEHLER | J38: Sie nehmen einfach die SVERWEIS-Funktion und schliessen drum herum die WENNFEHLER-Funktion:
B39: Name | C39: Anrede | D39: Briefanrede
B40: Meyer Kurt | C40: Herr | D40: =IFERROR(VLOOKUP(C40,$G$17:$H$25,2,0),"FEHLER") -> Sehr geehrter Herr
B41: Kählin Monika | C41: Frau | D41: =IFERROR(VLOOKUP(C41,$G$17:$H$25,2,0),"FEHLER") -> Sehr geehrte Frau
B42: Müller Peter | C42: Herrr | D42: =IFERROR(VLOOKUP(C42,$G$17:$H$25,2,0),"FEHLER") -> FEHLER
B43: Meier Karin | C43: Frau | D43: =IFERROR(VLOOKUP(C43,$G$17:$H$25,2,0),"FEHLER") -> Sehr geehrte Frau | J43: Als erstes Argument nehmen Sie den originalen kompletten SVERWEIS. Und als zweites Argument geben Sie an,
B44: Coudray Françoise | C44: Mme | D44: =IFERROR(VLOOKUP(C44,$G$17:$H$25,2,0),"FEHLER") -> Madame | J44: was denn bei einem Fehler erscheinen soll. In diesem Beispiel erscheint einfach nichts (wegen den beiden Anführungszeichen).
B45: Elsner Steffi & Hans | C45: Familie | D45: =IFERROR(VLOOKUP(C45,$G$17:$H$25,2,0),"FEHLER") -> Liebe Familie | J45: Soll eine Fehlermeldung erscheinen, dann passen Sie das zweite Argument entsprechend an:
B46: James Bond | C46: Mister | D46: =IFERROR(VLOOKUP(C46,$G$17:$H$25,2,0),"FEHLER") -> FEHLER
J50: Dann erscheint die Liste wie folgt:

Sheet SVERWEIS 5_Lösung
A1: SVERWEIS | G1: Hinweis:
G2: speichern Sie die Arbeitsmappe
G3: regelmässig!
A4: Zum Nachschlagen: Im Buch ab Seite 158
A7: Aufgabe | N7: Diese Aufgabe ist recht schwierig.
A8: In der Spalte Anrede soll die korrekte Anrede aufgrund der Sprache und des Geschlechts erscheinen | N8: Es geht hier auch um einen SVERWEIS, aber diesen werden wir noch mit einer WENN-Funktion spicken müssen.
A9: Nehmen Sie die kleine Tabelle rechts als Hilfe
N10: Der erste Schritt lautet, wieder am Beispiel der Zelle E18:
N11: Suche mit SVERWEIS den Buchstaben in Zelle D18 in der Matrix rechts, und zwar in der ersten Spalte.
N12: Wir wollen also den Sprachcode suchen.
N14: Soweit so gut. Aber erinnern Sie sich, dass wir dem SVERWEIS als drittes Argument angeben müssen,
N15: welche Spalte wir nun wünschen.
N16: Wir könnten folgendes schreiben:
B17: Name | C17: Geschlecht | D17: Sprache | E17: Anrede | J17: Sprachcode | K17: männlich | L17: weiblich
B18: Meyer Kurt | C18: m | D18: d | E18: =VLOOKUP(D18,$J$18:$L$20,IF(C18="m",2,3),0) -> Herr | J18: d | K18: Herr | L18: Frau
B19: Kählin Monika | C19: f | D19: d | E19: =VLOOKUP(D19,$J$18:$L$20,IF(C19="m",2,3),0) -> Frau | J19: f | K19: Monsieur | L19: Madame
B20: Müller Peter | C20: m | D20: d | E20: =VLOOKUP(D20,$J$18:$L$20,IF(C20="m",2,3),0) -> Herr | J20: i | K20: Signor | L20: Signora
B21: Meier Karin | C21: f | D21: d | E21: =VLOOKUP(D21,$J$18:$L$20,IF(C21="m",2,3),0) -> Frau | N21: So gibt uns der SVERWEIS die zweite Spalte zurück, in diesem Fall "Herr".
B22: Coudray Françoise | C22: f | D22: f | E22: =VLOOKUP(D22,$J$18:$L$20,IF(C22="m",2,3),0) -> Madame | N22: Das ist für die Zeile 18 sogar korrekt. Aber auch in der Zeile 19 wird uns der SVERWEIS die Spalte 2 zurückgeben.
B23: Di Caprese Luigi | C23: m | D23: i | E23: =VLOOKUP(D23,$J$18:$L$20,IF(C23="m",2,3),0) -> Signor
N24: Wir müssen nun noch mit einer weiteren Funktion, eben mit einem WENN herausfinden, ob in der Spalte C
N25: ein "m" oder ein "f" drin steht.
N27: Wir ersetzen also die Zahl 2 (grün markiert) durch ein WENN:
N32: Das WENN macht eben genau diese Unterscheidung. Falls in Zelle C18 ein "m" drin steht, dann soll der SVERWEIS
N33: in der Spalte 2 den Wert holen. Und sonst nimmt es den Wert aus der Spalte 3.

Sheet SVERWEIS 6_Lösung
A1: SVERWEIS | G1: Hinweis:
G2: speichern Sie die Arbeitsmappe
G3: regelmässig!
A4: Zum Nachschlagen: Online-Hilfe, Funktionen INDEX und VERGLEICH
A7: Aufgabe
A8: In der Zelle C24 soll das Geburtsdatum der Person stehen, welche in der Zelle C23 ausgewählt wurde
A9: Stichwort: SVERWEIS nach Links
I11: Diese Aufgabe kann nicht mit einem SVERWEIS erledigt werden. Der SVERWEIS-Befehl muss immer in der ersten Spalte einer Liste suchen gehen.
I12: Bei dieser Aufgabe suchen wir aber in der Liste B13:C18 in der ZWEITEN Spalte einen Namen, wollen aber dann das Geburtsdatum
B13: 24565 | C13: Müller | I13: aus der ERSTEN Spalte zurückgeben. Dies kann der SVERWEIS nicht.
B14: 19244 | C14: Meier
B15: 26530 | C15: Turtschi | I15: Die Lösung geht mit zwei Funktionen: quasi die Hauptfunktion, welche INDEX lautet. Die sieht wie folgt aus:
B16: 12479 | C16: Hofer
B17: 29578 | C17: Meyer
B18: 17840 | C18: Coudray
I22: Diese Funktion will von uns eine Matrix, also einen Bereich, und dann eine Zeile und allenfalls eine Spalte. Die Angabe der Spalte ist optional und
B23: Name: | C23: Meyer | I23: das benötigen wir hier auch nicht.
B24: Geb-Dat: | C24: =INDEX(B13:B18,MATCH(C23,C13:C18,0)) -> 29578 | I24: Geben Sie einfach mal irgendwo links in einer Zelle das Folgende ein (das Beispiel finden Sie in Zelle C28):
C28: =INDEX(B13:B18,2) -> 19244
C29: =MATCH(C23,C13:C18,0) -> 5 | I29: Diese Funktion macht nichts anderes, als aus dem angegebenen Bereich die zweite Zeile zurückzugeben.
I30: Nun, wir wollen ja nicht einfach die zweite Zeile, sondern diejenige, welche rechts davon den gesuchten Namen drin hat.
I31: Es gilt also nun, diese Zahl 2 im Beispiel zu ersetzen mit einer Funktion, welche uns die korrekte Zeile angibt.
I32: Dazu verwenden wir die Funktion VERGLEICH. Diese Funktion sieht dem SVERWEIS nicht unähnlich:
I38: Wir suchen wiederum ein Suchkriterium (Zelle C23) in einer Matrix (Bereich C13:C18). Den Vergleichstyp geben wir wie üblich mit 0 an:
I43: Das Beispiel finden Sie bereits pfannenfertig in Zelle C29.
I44: Ändern Sie nun als Test mal den Namen in Zelle C23. So sollte sich auch die Zahl in Zelle C29 ändern.
I46: Nun bauen Sie einfach diesen VERGLEICH-Befehl in die INDEX-Funktion ein, und zwar dort, wo die 2 stand:
I55: Somit sieht die fertige Formel wie folgt aus:
I56: =INDEX(B13:B18;VERGLEICH(C23;C13:C18;0))

Sheet SVERWEIS 7_Lösung
A1: SVERWEIS | G1: Hinweis:
G2: speichern Sie die Arbeitsmappe
G3: regelmässig!
A4: Zum Nachschlagen: Online-Hilfe, Funktionen INDEX und VERGLEICH
A6: Aufgabe
A7: in der Zelle C21 soll aufgrund der Angaben in C19 und C20 die entsprechende Zahl dargestellt werden
D10: Janaur | E10: Februar | F10: März | G10: April | J10: Auch diese Aufgabe muss mit INDEX und VERGLEICH gelöst werden. Nun benötigen wir jedoch im INDEX-Befehl beides, Zeile UND Spalte.
C11: Müller | D11: 34 | E11: 42 | F11: 654 | G11: 65 | J11: Geben Sie irgendwo mal das Folgende ein (Sie finden den Befehl in Zelle C24):
C12: Meier | D12: 45 | E12: 4 | F12: 343 | G12: 77
C13: Hofer | D13: 23 | E13: 9 | F13: 232 | G13: 66
C14: Krähenbühl | D14: 12 | E14: 765 | F14: 121 | G14: 98
J16: Das gibt die Zahl 343 zurück. Nun suchen Sie mal diese Zahl in der Matrix. Finden Sie diese?
J17: Die Zahl 343 befindet sich in Zeile 2 und Spalte 3. Und das ist genau das, was wir mit dem INDEX-Befehl gemacht haben, wir geben diesen Wert aus
J18: der Matrix zurück.
B19: Person: | C19: Müller
B20: Monat: | C20: Februar | J20: Nun geht es wieder darum, diese beiden Zahlen durch jeweils einen VERGLEICH-Befehl zu ersetzen.
B21: Ergebnis: | C21: =INDEX(D11:G14,MATCH(C19,C11:C14,0),MATCH(C20,D10:G10,0)) -> 42
J22: Die Zahl 2, also die Zeile, ergibt sich doch dadurch, welcher Name uns interessiert:
C24: =INDEX(D11:G14,2,3) -> 343
C26: =MATCH(C19,C11:C14,0) -> 1
C28: =MATCH(C20,D10:G10,0) -> 2
J31: Suchen wir nach "Meier", dann interessiert uns die Zeile 2. Suchen wir hingegen "Krähenbühl", dann interessiert uns die Zeile 4.
J32: Jetzt erstellen wir einen passenden VERGLEICH-Befehl (Sie finden diesen in Zelle C26):
J36: In meinem Beispiel steht in der Zelle C19 der Name "Müller" drin, also muss in Zelle C26 die Zahl 1 für die erste Zeile drin stehen.
J38: Soweit so gut. Nun wollen wir aber wissen, in welcher Spalte wir suchen müssen. Im Beispiel links steht "Februar". Also möchten wir doch die
J39: zweite Spalte zurückerhalten:
J49: Der VERGLEICH-Befehl sieht wie folgt aus (das konkrete Beispiel sehen Sie wieder in Zelle C28):
J54: Die Schwierigkeit bei diesen beiden VERGLEICH-Befehlen ist übrigens, in welcher Matrix (hier rot markiert in der Funktion) wir nun
J55: suchen wollen. In diesem Beispiel ist die Matrix jeweils eindimensional, das heisst, wir suchen nur in einer einzigen Zeile oder
J56: in einer einzigen Spalte. Die Funktion VERGLEICH kann auch nur so eingesetzt werden. Geben Sie als Matrix also nie
J57: einen Bereich über eine Zeile oder Spalte hinaus an. Das folgende Beispiel wäre falsch:
J62: Versuchen Sie's, aber das wird nicht klappen.
J64: Also, zurück zu unserer Aufgabe. Nun müssen wir wieder die beiden VERGLEICH-Befehle in die INDEX-Funktion einbauen:
... J81: Und wenn das funktioniert, dann ersetzen Sie noch die Zahl 3 für die Spalte mit der VERGLEICH-Funktion:
